BEGIN:VCALENDAR
VERSION:2.0
PRODID:-//Forest League - ECPv6.15.17//NONSGML v1.0//EN
CALSCALE:GREGORIAN
METHOD:PUBLISH
X-ORIGINAL-URL:https://mysmbc.uk/forest
X-WR-CALDESC:Events for Forest League
REFRESH-INTERVAL;VALUE=DURATION:PT1H
X-Robots-Tag:noindex
X-PUBLISHED-TTL:PT1H
BEGIN:VTIMEZONE
TZID:Europe/London
BEGIN:DAYLIGHT
TZOFFSETFROM:+0000
TZOFFSETTO:+0100
TZNAME:BST
DTSTART:20240331T010000
END:DAYLIGHT
BEGIN:STANDARD
TZOFFSETFROM:+0100
TZOFFSETTO:+0000
TZNAME:GMT
DTSTART:20241027T010000
END:STANDARD
BEGIN:DAYLIGHT
TZOFFSETFROM:+0000
TZOFFSETTO:+0100
TZNAME:BST
DTSTART:20250330T010000
END:DAYLIGHT
BEGIN:STANDARD
TZOFFSETFROM:+0100
TZOFFSETTO:+0000
TZNAME:GMT
DTSTART:20251026T010000
END:STANDARD
BEGIN:DAYLIGHT
TZOFFSETFROM:+0000
TZOFFSETTO:+0100
TZNAME:BST
DTSTART:20260329T010000
END:DAYLIGHT
BEGIN:STANDARD
TZOFFSETFROM:+0100
TZOFFSETTO:+0000
TZNAME:GMT
DTSTART:20261025T010000
END:STANDARD
END:VTIMEZONE
BEGIN:VEVENT
DTSTART;TZID=Europe/London:20250409T190000
DTEND;TZID=Europe/London:20250409T220000
DTSTAMP:20260424T035313
CREATED:20250414T183129Z
LAST-MODIFIED:20251220T080305Z
UID:822-1744225200-1744236000@mysmbc.uk
SUMMARY:Eliminators
DESCRIPTION:Foxes\nOaks\nKestrels\nAcorn
URL:https://mysmbc.uk/forest/event/eliminators/
LOCATION:Westbury on Severn Parish Hall\, Rodley Road\, Westbury-on-Severn\, Gloucester\, GL14 1PF
CATEGORIES:Finals
END:VEVENT
BEGIN:VEVENT
DTSTART;TZID=Europe/London:20250414T190000
DTEND;TZID=Europe/London:20250414T220000
DTSTAMP:20260424T035313
CREATED:20250414T183248Z
LAST-MODIFIED:20251220T080259Z
UID:824-1744657200-1744668000@mysmbc.uk
SUMMARY:Plate Finals
DESCRIPTION:Weasels\nStags\nFoxes\nOaks\nKestrels
URL:https://mysmbc.uk/forest/event/plate-finals/
LOCATION:Berry Hill Social Club\, Kells Meend\, Berry Hill\, Coleford\, GL16 7AD
CATEGORIES:Finals
END:VEVENT
BEGIN:VEVENT
DTSTART;TZID=Europe/London:20250430T190000
DTEND;TZID=Europe/London:20250430T220000
DTSTAMP:20260424T035313
CREATED:20250414T183327Z
LAST-MODIFIED:20251220T080253Z
UID:826-1746039600-1746050400@mysmbc.uk
SUMMARY:Championships
DESCRIPTION:Badgers\nSquirrels\nFalcons\nWombles
URL:https://mysmbc.uk/forest/event/championships/
LOCATION:Huntley Village Hall\, North Rd\, Huntley\, Gloucester\, GL19 3DU
CATEGORIES:Finals
END:VEVENT
END:VCALENDAR