BEGIN:VCALENDAR
VERSION:2.0
PRODID:-//Forest League - ECPv6.15.17//NONSGML v1.0//EN
CALSCALE:GREGORIAN
METHOD:PUBLISH
X-ORIGINAL-URL:https://mysmbc.uk/forest
X-WR-CALDESC:Events for Forest League
REFRESH-INTERVAL;VALUE=DURATION:PT1H
X-Robots-Tag:noindex
X-PUBLISHED-TTL:PT1H
BEGIN:VTIMEZONE
TZID:Europe/London
BEGIN:DAYLIGHT
TZOFFSETFROM:+0000
TZOFFSETTO:+0100
TZNAME:BST
DTSTART:20250330T010000
END:DAYLIGHT
BEGIN:STANDARD
TZOFFSETFROM:+0100
TZOFFSETTO:+0000
TZNAME:GMT
DTSTART:20251026T010000
END:STANDARD
BEGIN:DAYLIGHT
TZOFFSETFROM:+0000
TZOFFSETTO:+0100
TZNAME:BST
DTSTART:20260329T010000
END:DAYLIGHT
BEGIN:STANDARD
TZOFFSETFROM:+0100
TZOFFSETTO:+0000
TZNAME:GMT
DTSTART:20261025T010000
END:STANDARD
BEGIN:DAYLIGHT
TZOFFSETFROM:+0000
TZOFFSETTO:+0100
TZNAME:BST
DTSTART:20270328T010000
END:DAYLIGHT
BEGIN:STANDARD
TZOFFSETFROM:+0100
TZOFFSETTO:+0000
TZNAME:GMT
DTSTART:20271031T010000
END:STANDARD
END:VTIMEZONE
BEGIN:VEVENT
DTSTART;TZID=Europe/London:20260410T183000
DTEND;TZID=Europe/London:20260410T213000
DTSTAMP:20260423T120522
CREATED:20251219T092549Z
LAST-MODIFIED:20260328T155005Z
UID:1097-1775845800-1775856600@mysmbc.uk
SUMMARY:Play-Offs
DESCRIPTION:Yorkley (Kestrels)\, Woolaston (Woodsiders)\, Yorkley (Falcons)\, Forest of Dean (Stags) \n3rd–6th place teamsThe top two teams will progress to the Final
URL:https://mysmbc.uk/forest/event/play-offs/
LOCATION:Woolaston Memorial Hall\, Swains Field\, Woolaston\, Lydney\, GL15 6SU
CATEGORIES:Finals
ATTACH;FMTTYPE=image/png:https://mysmbc.uk/forest/wp-content/uploads/sites/2/2025/12/9574193-3.png
END:VEVENT
END:VCALENDAR