BEGIN:VCALENDAR
VERSION:2.0
PRODID:-//Forest League - ECPv6.15.17//NONSGML v1.0//EN
CALSCALE:GREGORIAN
METHOD:PUBLISH
X-WR-CALNAME:Forest League
X-ORIGINAL-URL:https://mysmbc.uk/forest
X-WR-CALDESC:Events for Forest League
REFRESH-INTERVAL;VALUE=DURATION:PT1H
X-Robots-Tag:noindex
X-PUBLISHED-TTL:PT1H
BEGIN:VTIMEZONE
TZID:Europe/London
BEGIN:DAYLIGHT
TZOFFSETFROM:+0000
TZOFFSETTO:+0100
TZNAME:BST
DTSTART:20240331T010000
END:DAYLIGHT
BEGIN:STANDARD
TZOFFSETFROM:+0100
TZOFFSETTO:+0000
TZNAME:GMT
DTSTART:20241027T010000
END:STANDARD
BEGIN:DAYLIGHT
TZOFFSETFROM:+0000
TZOFFSETTO:+0100
TZNAME:BST
DTSTART:20250330T010000
END:DAYLIGHT
BEGIN:STANDARD
TZOFFSETFROM:+0100
TZOFFSETTO:+0000
TZNAME:GMT
DTSTART:20251026T010000
END:STANDARD
BEGIN:DAYLIGHT
TZOFFSETFROM:+0000
TZOFFSETTO:+0100
TZNAME:BST
DTSTART:20260329T010000
END:DAYLIGHT
BEGIN:STANDARD
TZOFFSETFROM:+0100
TZOFFSETTO:+0000
TZNAME:GMT
DTSTART:20261025T010000
END:STANDARD
END:VTIMEZONE
BEGIN:VEVENT
DTSTART;TZID=Europe/London:20250402T190000
DTEND;TZID=Europe/London:20250402T213000
DTSTAMP:20260424T062320
CREATED:20240921T185946Z
LAST-MODIFIED:20240921T185946Z
UID:725-1743620400-1743629400@mysmbc.uk
SUMMARY:Forest League @ Westbury
DESCRIPTION:Westbury (Weasels)\, Longhope (Badgers)\, Yorkley (Kestrels)\, Huntley (Oaks)
URL:https://mysmbc.uk/forest/event/forest-league-westbury-8/
LOCATION:Westbury on Severn Parish Hall\, Rodley Road\, Westbury-on-Severn\, Gloucester\, GL14 1PF
CATEGORIES:League
END:VEVENT
END:VCALENDAR