BEGIN:VCALENDAR
VERSION:2.0
PRODID:-//Forest League - ECPv6.15.17//NONSGML v1.0//EN
CALSCALE:GREGORIAN
METHOD:PUBLISH
X-WR-CALNAME:Forest League
X-ORIGINAL-URL:https://mysmbc.uk/forest
X-WR-CALDESC:Events for Forest League
REFRESH-INTERVAL;VALUE=DURATION:PT1H
X-Robots-Tag:noindex
X-PUBLISHED-TTL:PT1H
BEGIN:VTIMEZONE
TZID:Europe/London
BEGIN:DAYLIGHT
TZOFFSETFROM:+0000
TZOFFSETTO:+0100
TZNAME:BST
DTSTART:20240331T010000
END:DAYLIGHT
BEGIN:STANDARD
TZOFFSETFROM:+0100
TZOFFSETTO:+0000
TZNAME:GMT
DTSTART:20241027T010000
END:STANDARD
BEGIN:DAYLIGHT
TZOFFSETFROM:+0000
TZOFFSETTO:+0100
TZNAME:BST
DTSTART:20250330T010000
END:DAYLIGHT
BEGIN:STANDARD
TZOFFSETFROM:+0100
TZOFFSETTO:+0000
TZNAME:GMT
DTSTART:20251026T010000
END:STANDARD
BEGIN:DAYLIGHT
TZOFFSETFROM:+0000
TZOFFSETTO:+0100
TZNAME:BST
DTSTART:20260329T010000
END:DAYLIGHT
BEGIN:STANDARD
TZOFFSETFROM:+0100
TZOFFSETTO:+0000
TZNAME:GMT
DTSTART:20261025T010000
END:STANDARD
END:VTIMEZONE
BEGIN:VEVENT
DTSTART;TZID=Europe/London:20251022T190000
DTEND;TZID=Europe/London:20251022T214000
DTSTAMP:20260424T073452
CREATED:20250831T084426Z
LAST-MODIFIED:20250831T084426Z
UID:1023-1761159600-1761169200@mysmbc.uk
SUMMARY:Forest League @ Huntley
DESCRIPTION:Huntley (Oaks)\, Woolaston (Commoners)\, Yorkley (Falcons)\, Forest of Dean (Squirrels)\n	\n\n		\n\n	\n			\n\n			\n			\n									Forest League 25 Regular Season\n				\n									Huntley Village Hall\n					|\n				\n									22 Oct 2025\n											7:00 pm\n												\n\n			\n		\n	\n	\n		\n\n							\n			\n			\n				Oaks			\n\n			\n				6\n			\n\n		\n		\n\n			\n				6\n				7\n			\n\n		\n		\n\n							\n			\n			\n				Commoners			\n\n			\n				7\n			\n		\n\n					\n	\n\n\n\n	\n			\n\n			\n			\n									Forest League 25 Regular Season\n				\n									Huntley Village Hall\n					|\n				\n									22 Oct 2025\n											7:00 pm\n												\n\n			\n		\n	\n	\n		\n\n							\n			\n			\n				Falcons			\n\n			\n				3\n			\n\n		\n		\n\n			\n				3\n				8\n			\n\n		\n		\n\n							\n			\n			\n				Squirrels			\n\n			\n				8\n			\n		\n\n					\n	\n\n\n\n	\n			\n\n			\n			\n									Forest League 25 Regular Season\n				\n									Huntley Village Hall\n					|\n				\n									22 Oct 2025\n											7:50 pm\n												\n\n			\n		\n	\n	\n		\n\n							\n			\n			\n				Commoners			\n\n			\n				9\n			\n\n		\n		\n\n			\n				9\n				9\n			\n\n		\n		\n\n							\n			\n			\n				Falcons			\n\n			\n				9\n			\n		\n\n					\n	\n\n\n\n	\n			\n\n			\n			\n									Forest League 25 Regular Season\n				\n									Huntley Village Hall\n					|\n				\n									22 Oct 2025\n											7:50 pm\n												\n\n			\n		\n	\n	\n		\n\n							\n			\n			\n				Squirrels			\n\n			\n				5\n			\n\n		\n		\n\n			\n				5\n				6\n			\n\n		\n		\n\n							\n			\n			\n				Oaks			\n\n			\n				6\n			\n		\n\n					\n	\n\n\n\n	\n			\n\n			\n			\n									Forest League 25 Regular Season\n				\n									Huntley Village Hall\n					|\n				\n									22 Oct 2025\n											8:55 pm\n												\n\n			\n		\n	\n	\n		\n\n							\n			\n			\n				Commoners			\n\n			\n				2\n			\n\n		\n		\n\n			\n				2\n				8\n			\n\n		\n		\n\n							\n			\n			\n				Squirrels			\n\n			\n				8\n			\n		\n\n					\n	\n\n\n\n	\n			\n\n			\n			\n									Forest League 25 Regular Season\n				\n									Huntley Village Hall\n					|\n				\n									22 Oct 2025\n											8:55 pm\n												\n\n			\n		\n	\n	\n		\n\n							\n			\n			\n				Oaks			\n\n			\n				3\n			\n\n		\n		\n\n			\n				3\n				15\n			\n\n		\n		\n\n							\n			\n			\n				Falcons			\n\n			\n				15
URL:https://mysmbc.uk/forest/event/forest-league-huntley-5/
LOCATION:Huntley Village Hall\, North Rd\, Huntley\, Gloucester\, GL19 3DU
CATEGORIES:League
ATTACH;FMTTYPE=image/png:https://mysmbc.uk/forest/wp-content/uploads/sites/2/2025/08/favicon.png
END:VEVENT
END:VCALENDAR